BEGIN:VCALENDAR
VERSION:2.0
PRODID:-//www.amersfoortsvoetbalkampioenschap.nl//NONSGML Amersfoortse voetbal kampioenschappen//EN
CALSCALE:GREGORIAN
BEGIN:VEVENT
DESCRIPTION:
DTEND;TZID="Europe/Amsterdam":20250521T190000
DTSTART;TZID="Europe/Amsterdam":20250521T163000
LOCATION:
SUMMARY:wedstrijd5
URL;VALUE=URI:https://www.amersfoortsvoetbalkampioenschap.nl/agenda/zaterdag-10-augustus-2024/wedstrijd5
DTSTAMP;TZID="Europe/Amsterdam":20260419T170238
UID:69e4ee8e27284
END:VEVENT
END:VCALENDAR
