BEGIN:VCALENDAR
VERSION:2.0
PRODID:-//www.amersfoortsvoetbalkampioenschap.nl//NONSGML Amersfoortse voetbal kampioenschappen//EN
CALSCALE:GREGORIAN
BEGIN:VEVENT
DESCRIPTION:
DTEND;TZID="Europe/Amsterdam":20250521T160000
DTSTART;TZID="Europe/Amsterdam":20250521T141500
LOCATION:
SUMMARY:wedstrijd4
URL;VALUE=URI:https://www.amersfoortsvoetbalkampioenschap.nl/agenda/zaterdag-10-augustus-2024/wedstrijd4
DTSTAMP;TZID="Europe/Amsterdam":20260419T170414
UID:69e4eeee213e5
END:VEVENT
END:VCALENDAR
