BEGIN:VCALENDAR
VERSION:2.0
PRODID:-//www.amersfoortsvoetbalkampioenschap.nl//NONSGML Amersfoortse voetbal kampioenschappen//EN
CALSCALE:GREGORIAN
BEGIN:VEVENT
DESCRIPTION:
DTEND;TZID="Europe/Amsterdam":20250521T130000
DTSTART;TZID="Europe/Amsterdam":20250521T120000
LOCATION:
SUMMARY:wedstrijd2
URL;VALUE=URI:https://www.amersfoortsvoetbalkampioenschap.nl/agenda/zaterdag-10-augustus-2024/wedstrijd2
DTSTAMP;TZID="Europe/Amsterdam":20260419T152325
UID:69e4d74d77bed
END:VEVENT
END:VCALENDAR
