BEGIN:VCALENDAR
VERSION:2.0
PRODID:-//www.amersfoortsvoetbalkampioenschap.nl//NONSGML Amersfoortse voetbal kampioenschappen//EN
CALSCALE:GREGORIAN
BEGIN:VEVENT
DESCRIPTION:
DTEND;TZID="Europe/Amsterdam":20250522T200000
DTSTART;TZID="Europe/Amsterdam":20250514T120000
LOCATION:
SUMMARY:wedstrijd1
URL;VALUE=URI:https://www.amersfoortsvoetbalkampioenschap.nl/agenda/zaterdag-10-augustus-2024/wedstrijd1
DTSTAMP;TZID="Europe/Amsterdam":20260419T171004
UID:69e4f04c2d3f2
END:VEVENT
END:VCALENDAR
