BEGIN:VCALENDAR
VERSION:2.0
PRODID:-//www.amersfoortsvoetbalkampioenschap.nl//NONSGML Amersfoortse voetbal kampioenschappen//EN
CALSCALE:GREGORIAN
BEGIN:VEVENT
DESCRIPTION:
DTEND;TZID="Europe/Amsterdam":20250522T230000
DTSTART;TZID="Europe/Amsterdam":20250521T204500
LOCATION:
SUMMARY:wedstrijd2
URL;VALUE=URI:https://www.amersfoortsvoetbalkampioenschap.nl/agenda/woensdag-14-augustus-2024/wedstrijd26
DTSTAMP;TZID="Europe/Amsterdam":20260419T154141
UID:69e4db959d49a
END:VEVENT
END:VCALENDAR
