BEGIN:VCALENDAR
VERSION:2.0
PRODID:-//www.amersfoortsvoetbalkampioenschap.nl//NONSGML Amersfoortse voetbal kampioenschappen//EN
CALSCALE:GREGORIAN
BEGIN:VEVENT
DESCRIPTION:
DTEND;TZID="Europe/Amsterdam":20250525T230000
DTSTART;TZID="Europe/Amsterdam":20250521T203000
LOCATION:
SUMMARY:wedstrijd2
URL;VALUE=URI:https://www.amersfoortsvoetbalkampioenschap.nl/agenda/vrijdag-16-augustus-2024/wedstrijd30
DTSTAMP;TZID="Europe/Amsterdam":20260419T170721
UID:69e4efa9b4808
END:VEVENT
END:VCALENDAR
