BEGIN:VCALENDAR
VERSION:2.0
PRODID:-//www.amersfoortsvoetbalkampioenschap.nl//NONSGML Amersfoortse voetbal kampioenschappen//EN
CALSCALE:GREGORIAN
BEGIN:VEVENT
DESCRIPTION:
DTEND;TZID="Europe/Amsterdam":20250523T230000
DTSTART;TZID="Europe/Amsterdam":20250521T184500
LOCATION:
SUMMARY:wedstrijd1
URL;VALUE=URI:https://www.amersfoortsvoetbalkampioenschap.nl/agenda/vrijdag-16-augustus-2024/wedstrijd29
DTSTAMP;TZID="Europe/Amsterdam":20260419T152739
UID:69e4d84b3bdc6
END:VEVENT
END:VCALENDAR
