BEGIN:VCALENDAR
VERSION:2.0
PRODID:-//www.amersfoortsvoetbalkampioenschap.nl//NONSGML Amersfoortse voetbal kampioenschappen//EN
CALSCALE:GREGORIAN
BEGIN:VEVENT
DESCRIPTION:
DTEND;TZID="Europe/Amsterdam":20250521T150000
DTSTART;TZID="Europe/Amsterdam":20250521T141500
LOCATION:
SUMMARY:wedstrijd3
URL;VALUE=URI:https://www.amersfoortsvoetbalkampioenschap.nl/agenda/maandag-12-augustus-2024/wedstrijd3
DTSTAMP;TZID="Europe/Amsterdam":20260419T152000
UID:69e4d6804cf51
END:VEVENT
END:VCALENDAR
