BEGIN:VCALENDAR
VERSION:2.0
PRODID:-//www.amersfoortsvoetbalkampioenschap.nl//NONSGML Amersfoortse voetbal kampioenschappen//EN
CALSCALE:GREGORIAN
BEGIN:VEVENT
DESCRIPTION:
DTEND;TZID="Europe/Amsterdam":20250522T230000
DTSTART;TZID="Europe/Amsterdam":20250521T204500
LOCATION:
SUMMARY:wedstrijd4
URL;VALUE=URI:https://www.amersfoortsvoetbalkampioenschap.nl/agenda/maandag-12-augustus-2024/wedstrijd23
DTSTAMP;TZID="Europe/Amsterdam":20260419T154228
UID:69e4dbc449277
END:VEVENT
END:VCALENDAR
