BEGIN:VCALENDAR
VERSION:2.0
PRODID:-//www.amersfoortsvoetbalkampioenschap.nl//NONSGML Amersfoortse voetbal kampioenschappen//EN
CALSCALE:GREGORIAN
BEGIN:VEVENT
DESCRIPTION:
DTEND;TZID="Europe/Amsterdam":20250522T230000
DTSTART;TZID="Europe/Amsterdam":20250521T190000
LOCATION:
SUMMARY:wedstrijd2
URL;VALUE=URI:https://www.amersfoortsvoetbalkampioenschap.nl/agenda/maandag-12-augustus-2024/wedstrijd22
DTSTAMP;TZID="Europe/Amsterdam":20260419T170330
UID:69e4eec29488c
END:VEVENT
END:VCALENDAR
